Package: RCASPAR Version: 1.56.0 Command: /home/biocbuild/bbs-3.22-bioc/R/bin/R CMD check --install=check:RCASPAR.install-out.txt --library=/home/biocbuild/bbs-3.22-bioc/R/site-library --timings RCASPAR_1.56.0.tar.gz StartedAt: 2025-11-14 03:13:44 -0500 (Fri, 14 Nov 2025) EndedAt: 2025-11-14 03:14:05 -0500 (Fri, 14 Nov 2025) EllapsedTime: 21.1 seconds RetCode: 0 Status: OK CheckDir: RCASPAR.Rcheck Warnings: 0