Package: RCASPAR Version: 1.56.0 Command: /home/biocbuild/bbs-3.22-bioc/R/bin/R CMD build --keep-empty-dirs --no-resave-data --md5 RCASPAR StartedAt: 2025-11-11 19:39:01 -0500 (Tue, 11 Nov 2025) EndedAt: 2025-11-11 19:39:07 -0500 (Tue, 11 Nov 2025) EllapsedTime: 6.0 seconds RetCode: 0 Status: OK PackageFile: RCASPAR_1.56.0.tar.gz PackageFileSize: 307 KiB