Package: RCASPAR Version: 1.54.0 Command: /home/biocbuild/R/R/bin/R CMD INSTALL RCASPAR StartedAt: 2025-09-25 20:13:08 -0000 (Thu, 25 Sep 2025) EndedAt: 2025-09-25 20:13:21 -0000 (Thu, 25 Sep 2025) EllapsedTime: 12.7 seconds RetCode: 0 Status: OK