Package: RCASPAR Version: 1.54.0 Command: /Library/Frameworks/R.framework/Resources/bin/R CMD INSTALL RCASPAR StartedAt: 2025-10-13 15:06:08 -0400 (Mon, 13 Oct 2025) EndedAt: 2025-10-13 15:06:11 -0400 (Mon, 13 Oct 2025) EllapsedTime: 3.7 seconds RetCode: 0 Status: OK