Package: RCASPAR Version: 1.54.0 Command: rm -rf RCASPAR.buildbin-libdir && mkdir RCASPAR.buildbin-libdir && /Users/biocbuild/BBS/utils/build-universal.sh RCASPAR_1.54.0.tar.gz /Library/Frameworks/R.framework/Resources/bin/R RCASPAR.buildbin-libdir StartedAt: 2025-10-15 19:59:13 -0400 (Wed, 15 Oct 2025) EndedAt: 2025-10-15 19:59:17 -0400 (Wed, 15 Oct 2025) EllapsedTime: 4.5 seconds RetCode: 0 Status: OK PackageFile: RCASPAR_1.54.0.tgz PackageFileSize: 375.9 KiB