Package: RCAS Version: 1.36.0 Command: /home/biocbuild/bbs-3.22-bioc/R/bin/R CMD INSTALL RCAS StartedAt: 2025-11-11 15:44:23 -0500 (Tue, 11 Nov 2025) EndedAt: 2025-11-11 15:45:11 -0500 (Tue, 11 Nov 2025) EllapsedTime: 47.8 seconds RetCode: 0 Status: OK