Package: RCAS Version: 1.36.0 Command: /home/biocbuild/bbs-3.22-bioc/R/bin/R CMD check --install=check:RCAS.install-out.txt --library=/home/biocbuild/bbs-3.22-bioc/R/site-library --timings RCAS_1.36.0.tar.gz StartedAt: 2025-11-15 03:26:09 -0500 (Sat, 15 Nov 2025) EndedAt: 2025-11-15 03:38:09 -0500 (Sat, 15 Nov 2025) EllapsedTime: 719.9 seconds RetCode: 0 Status: OK CheckDir: RCAS.Rcheck Warnings: 0