Package: RCAS Version: 1.36.0 Command: /home/biocbuild/bbs-3.22-bioc/R/bin/R CMD build --keep-empty-dirs --no-resave-data --md5 RCAS StartedAt: 2025-11-11 19:38:59 -0500 (Tue, 11 Nov 2025) EndedAt: 2025-11-11 19:41:35 -0500 (Tue, 11 Nov 2025) EllapsedTime: 156.2 seconds RetCode: 0 Status: OK PackageFile: RCAS_1.36.0.tar.gz PackageFileSize: 1.51 MiB