Package: RCAS Version: 1.34.0 Command: /home/biocbuild/bbs-3.21-bioc/R/bin/R CMD INSTALL RCAS StartedAt: 2025-10-15 15:38:54 -0400 (Wed, 15 Oct 2025) EndedAt: 2025-10-15 15:39:41 -0400 (Wed, 15 Oct 2025) EllapsedTime: 47.1 seconds RetCode: 0 Status: OK