Package: RCAS Version: 1.34.0 Command: /home/biocbuild/bbs-3.21-bioc/R/bin/R CMD build --keep-empty-dirs --no-resave-data RCAS StartedAt: 2025-10-15 19:22:45 -0400 (Wed, 15 Oct 2025) EndedAt: 2025-10-15 19:25:20 -0400 (Wed, 15 Oct 2025) EllapsedTime: 155.2 seconds RetCode: 0 Status: OK PackageFile: RCAS_1.34.0.tar.gz PackageFileSize: 1.508 MiB