Package: RCAS Version: 1.34.0 Command: /home/biocbuild/R/R/bin/R CMD build --keep-empty-dirs --no-resave-data RCAS StartedAt: 2025-09-26 05:09:55 -0000 (Fri, 26 Sep 2025) EndedAt: 2025-09-26 05:13:39 -0000 (Fri, 26 Sep 2025) EllapsedTime: 223.1 seconds RetCode: 0 Status: OK PackageFile: RCAS_1.34.0.tar.gz PackageFileSize: 1.487 MiB