Package: RCAS Version: 1.34.0 Command: rm -rf RCAS.buildbin-libdir && mkdir RCAS.buildbin-libdir && /Users/biocbuild/BBS/utils/build-universal.sh RCAS_1.34.0.tar.gz /Library/Frameworks/R.framework/Resources/bin/R RCAS.buildbin-libdir StartedAt: 2025-10-15 19:59:04 -0400 (Wed, 15 Oct 2025) EndedAt: 2025-10-15 20:00:05 -0400 (Wed, 15 Oct 2025) EllapsedTime: 61.2 seconds RetCode: 0 Status: OK PackageFile: RCAS_1.34.0.tgz PackageFileSize: 2.052 MiB