Package: RCAS Version: 1.36.0 Maintainer: Bora Uyar MaintainerEmail: bora.uyar at mdc-berlin.de git_url: https://git.bioconductor.org/packages/RCAS git_branch: RELEASE_3_22 git_last_commit: 780ed18 git_last_commit_date: 2025-10-29 10:33:22 -0400 (Wed, 29 Oct 2025)