Package: RBioinf Version: 1.68.0 Command: /home/biocbuild/R/R/bin/R CMD INSTALL RBioinf StartedAt: 2025-10-06 20:23:52 -0000 (Mon, 06 Oct 2025) EndedAt: 2025-10-06 20:23:56 -0000 (Mon, 06 Oct 2025) EllapsedTime: 3.8 seconds RetCode: 0 Status: OK