Package: RBioinf Version: 1.68.0 Command: /home/biocbuild/R/R/bin/R CMD build --keep-empty-dirs --no-resave-data RBioinf StartedAt: 2025-10-07 03:50:46 -0000 (Tue, 07 Oct 2025) EndedAt: 2025-10-07 03:50:57 -0000 (Tue, 07 Oct 2025) EllapsedTime: 11.0 seconds RetCode: 0 Status: OK PackageFile: RBioinf_1.68.0.tar.gz PackageFileSize: 3.539 MiB