Package: RBioFormats Version: 1.10.0 Command: /home/biocbuild/R/R/bin/R CMD INSTALL RBioFormats StartedAt: 2025-11-13 21:18:55 -0000 (Thu, 13 Nov 2025) EndedAt: 2025-11-13 21:19:09 -0000 (Thu, 13 Nov 2025) EllapsedTime: 14.0 seconds RetCode: 0 Status: OK