Package: RBioFormats Version: 1.10.0 Command: /home/biocbuild/bbs-3.22-bioc/R/bin/R CMD build --keep-empty-dirs --no-resave-data --md5 RBioFormats StartedAt: 2025-11-11 19:38:14 -0500 (Tue, 11 Nov 2025) EndedAt: 2025-11-11 19:38:31 -0500 (Tue, 11 Nov 2025) EllapsedTime: 17.0 seconds RetCode: 0 Status: OK PackageFile: RBioFormats_1.10.0.tar.gz PackageFileSize: 321.5 KiB