Package: RBioFormats Version: 1.8.0 Command: /home/biocbuild/bbs-3.21-bioc/R/bin/R CMD INSTALL RBioFormats StartedAt: 2025-10-01 15:15:53 -0400 (Wed, 01 Oct 2025) EndedAt: 2025-10-01 15:16:01 -0400 (Wed, 01 Oct 2025) EllapsedTime: 8.3 seconds RetCode: 0 Status: OK