Package: RBioFormats Version: 1.8.0 Command: /home/biocbuild/bbs-3.21-bioc/R/bin/R CMD build --keep-empty-dirs --no-resave-data RBioFormats StartedAt: 2025-10-01 19:26:41 -0400 (Wed, 01 Oct 2025) EndedAt: 2025-10-01 19:26:57 -0400 (Wed, 01 Oct 2025) EllapsedTime: 16.0 seconds RetCode: 0 Status: OK PackageFile: RBioFormats_1.8.0.tar.gz PackageFileSize: 320.2 KiB