Package: RBioFormats Version: 1.8.0 Command: /Library/Frameworks/R.framework/Resources/bin/R CMD INSTALL RBioFormats StartedAt: 2025-09-29 15:43:02 -0400 (Mon, 29 Sep 2025) EndedAt: 2025-09-29 15:43:13 -0400 (Mon, 29 Sep 2025) EllapsedTime: 10.4 seconds RetCode: 0 Status: OK