Package: RBioFormats Version: 1.8.0 Command: /Library/Frameworks/R.framework/Resources/bin/R CMD build --keep-empty-dirs --no-resave-data RBioFormats StartedAt: 2025-09-26 07:10:59 -0400 (Fri, 26 Sep 2025) EndedAt: 2025-09-26 07:11:24 -0400 (Fri, 26 Sep 2025) EllapsedTime: 24.7 seconds RetCode: 0 Status: OK PackageFile: RBioFormats_1.8.0.tar.gz PackageFileSize: 321.6 KiB