Package: RBioFormats Version: 1.8.0 Command: rm -rf RBioFormats.buildbin-libdir && mkdir RBioFormats.buildbin-libdir && /Users/biocbuild/BBS/utils/build-universal.sh RBioFormats_1.8.0.tar.gz /Library/Frameworks/R.framework/Resources/bin/R RBioFormats.buildbin-libdir StartedAt: 2025-09-27 18:57:53 -0400 (Sat, 27 Sep 2025) EndedAt: 2025-09-27 18:58:05 -0400 (Sat, 27 Sep 2025) EllapsedTime: 12.3 seconds RetCode: 0 Status: OK PackageFile: RBioFormats_1.8.0.tgz PackageFileSize: 523.8 KiB