Package: RBM Version: 1.42.0 Command: /home/biocbuild/bbs-3.22-bioc/R/bin/R CMD INSTALL RBM StartedAt: 2025-11-14 15:04:19 -0500 (Fri, 14 Nov 2025) EndedAt: 2025-11-14 15:04:35 -0500 (Fri, 14 Nov 2025) EllapsedTime: 16.1 seconds RetCode: 0 Status: OK