Package: RBM Version: 1.42.0 Command: /home/biocbuild/bbs-3.22-bioc/R/bin/R CMD build --keep-empty-dirs --no-resave-data --md5 RBM StartedAt: 2025-11-14 19:38:35 -0500 (Fri, 14 Nov 2025) EndedAt: 2025-11-14 19:39:05 -0500 (Fri, 14 Nov 2025) EllapsedTime: 30.0 seconds RetCode: 0 Status: OK PackageFile: RBM_1.42.0.tar.gz PackageFileSize: 371.3 KiB