Package: RBGL Version: 1.86.0 Command: /Library/Frameworks/R.framework/Resources/bin/R CMD INSTALL RBGL StartedAt: 2025-10-31 15:23:08 -0400 (Fri, 31 Oct 2025) EndedAt: 2025-10-31 15:24:42 -0400 (Fri, 31 Oct 2025) EllapsedTime: 94.4 seconds RetCode: 0 Status: OK