Package: RBGL Version: 1.86.0 Command: /Library/Frameworks/R.framework/Resources/bin/R CMD build --keep-empty-dirs --no-resave-data RBGL StartedAt: 2025-11-02 18:25:21 -0500 (Sun, 02 Nov 2025) EndedAt: 2025-11-02 18:27:18 -0500 (Sun, 02 Nov 2025) EllapsedTime: 116.5 seconds RetCode: 0 Status: OK PackageFile: RBGL_1.86.0.tar.gz PackageFileSize: 2.964 MiB