Package: RBGL Version: 1.84.0 Command: /home/biocbuild/R/R/bin/R CMD INSTALL RBGL StartedAt: 2025-10-09 20:24:15 -0000 (Thu, 09 Oct 2025) EndedAt: 2025-10-09 20:26:59 -0000 (Thu, 09 Oct 2025) EllapsedTime: 163.7 seconds RetCode: 0 Status: OK