Package: RBGL Version: 1.84.0 Command: /home/biocbuild/R/R/bin/R CMD build --keep-empty-dirs --no-resave-data RBGL StartedAt: 2025-10-10 03:46:41 -0000 (Fri, 10 Oct 2025) EndedAt: 2025-10-10 03:49:37 -0000 (Fri, 10 Oct 2025) EllapsedTime: 176.1 seconds RetCode: 0 Status: OK PackageFile: RBGL_1.84.0.tar.gz PackageFileSize: 2.976 MiB