Package: RBGL Version: 1.84.0 Command: /Library/Frameworks/R.framework/Resources/bin/R CMD INSTALL RBGL StartedAt: 2025-04-21 15:06:25 -0400 (Mon, 21 Apr 2025) EndedAt: 2025-04-21 15:06:55 -0400 (Mon, 21 Apr 2025) EllapsedTime: 29.7 seconds RetCode: 0 Status: OK