Package: RAREsim Version: 1.14.0 Command: /home/biocbuild/bbs-3.22-bioc/R/bin/R CMD check --install=check:RAREsim.install-out.txt --library=/home/biocbuild/bbs-3.22-bioc/R/site-library --timings RAREsim_1.14.0.tar.gz StartedAt: 2025-11-12 03:09:34 -0500 (Wed, 12 Nov 2025) EndedAt: 2025-11-12 03:09:54 -0500 (Wed, 12 Nov 2025) EllapsedTime: 20.0 seconds RetCode: 0 Status: OK CheckDir: RAREsim.Rcheck Warnings: 0