Package: RAREsim Version: 1.12.0 Command: /home/biocbuild/R/R/bin/R CMD INSTALL RAREsim StartedAt: 2025-10-02 20:14:56 -0000 (Thu, 02 Oct 2025) EndedAt: 2025-10-02 20:15:12 -0000 (Thu, 02 Oct 2025) EllapsedTime: 16.2 seconds RetCode: 0 Status: OK