Package: RAREsim Version: 1.12.0 Command: /home/biocbuild/R/R/bin/R CMD build --keep-empty-dirs --no-resave-data RAREsim StartedAt: 2025-10-03 03:46:59 -0000 (Fri, 03 Oct 2025) EndedAt: 2025-10-03 03:47:07 -0000 (Fri, 03 Oct 2025) EllapsedTime: 8.0 seconds RetCode: 0 Status: OK PackageFile: RAREsim_1.12.0.tar.gz PackageFileSize: 319.2 KiB