Package: RAREsim Version: 1.12.0 Command: /Library/Frameworks/R.framework/Resources/bin/R CMD INSTALL RAREsim StartedAt: 2025-10-13 15:12:36 -0400 (Mon, 13 Oct 2025) EndedAt: 2025-10-13 15:12:43 -0400 (Mon, 13 Oct 2025) EllapsedTime: 7.2 seconds RetCode: 0 Status: OK