Package: RAREsim Version: 1.12.0 Command: /Library/Frameworks/R.framework/Resources/bin/R CMD build --keep-empty-dirs --no-resave-data RAREsim StartedAt: 2025-10-14 07:20:56 -0400 (Tue, 14 Oct 2025) EndedAt: 2025-10-14 07:21:06 -0400 (Tue, 14 Oct 2025) EllapsedTime: 9.9 seconds RetCode: 0 Status: OK PackageFile: RAREsim_1.12.0.tar.gz PackageFileSize: 301.1 KiB