Package: RAREsim Version: 1.12.0 Command: rm -rf RAREsim.buildbin-libdir && mkdir RAREsim.buildbin-libdir && /Users/biocbuild/BBS/utils/build-universal.sh RAREsim_1.12.0.tar.gz /Library/Frameworks/R.framework/Resources/bin/R RAREsim.buildbin-libdir StartedAt: 2025-10-15 19:57:59 -0400 (Wed, 15 Oct 2025) EndedAt: 2025-10-15 19:58:02 -0400 (Wed, 15 Oct 2025) EllapsedTime: 3.4 seconds RetCode: 0 Status: OK PackageFile: RAREsim_1.12.0.tgz PackageFileSize: 319.1 KiB