Package: RAREsim Version: 1.14.0 Maintainer: Ryan Barnard MaintainerEmail: rbarnard1107 at gmail.com git_url: https://git.bioconductor.org/packages/RAREsim git_branch: RELEASE_3_22 git_last_commit: 9740e84 git_last_commit_date: 2025-10-29 11:16:51 -0400 (Wed, 29 Oct 2025)