Package: RAIDS Version: 1.8.0 Command: /home/biocbuild/bbs-3.22-bioc/R/bin/R CMD build --keep-empty-dirs --no-resave-data --md5 RAIDS StartedAt: 2025-11-11 19:36:13 -0500 (Tue, 11 Nov 2025) EndedAt: 2025-11-11 19:38:14 -0500 (Tue, 11 Nov 2025) EllapsedTime: 121.1 seconds RetCode: 0 Status: OK PackageFile: RAIDS_1.8.0.tar.gz PackageFileSize: 3.405 MiB