Package: RAIDS Version: 1.8.0 Command: /Library/Frameworks/R.framework/Resources/bin/R CMD INSTALL RAIDS StartedAt: 2025-11-10 15:21:07 -0500 (Mon, 10 Nov 2025) EndedAt: 2025-11-10 15:21:30 -0500 (Mon, 10 Nov 2025) EllapsedTime: 23.2 seconds RetCode: 0 Status: OK