Package: RAIDS Version: 1.8.0 Command: /Library/Frameworks/R.framework/Resources/bin/R CMD build --keep-empty-dirs --no-resave-data RAIDS StartedAt: 2025-11-10 17:26:38 -0500 (Mon, 10 Nov 2025) EndedAt: 2025-11-10 17:27:30 -0500 (Mon, 10 Nov 2025) EllapsedTime: 52.6 seconds RetCode: 0 Status: OK PackageFile: RAIDS_1.8.0.tar.gz PackageFileSize: 3.425 MiB