Package: R4RNA Version: 1.38.0 Command: /home/biocbuild/bbs-3.22-bioc/R/bin/R CMD INSTALL R4RNA StartedAt: 2025-11-11 15:34:44 -0500 (Tue, 11 Nov 2025) EndedAt: 2025-11-11 15:34:54 -0500 (Tue, 11 Nov 2025) EllapsedTime: 10.1 seconds RetCode: 0 Status: OK