Package: R4RNA Version: 1.38.0 Command: /home/biocbuild/bbs-3.22-bioc/R/bin/R CMD check --install=check:R4RNA.install-out.txt --library=/home/biocbuild/bbs-3.22-bioc/R/site-library --timings R4RNA_1.38.0.tar.gz StartedAt: 2025-11-15 03:21:33 -0500 (Sat, 15 Nov 2025) EndedAt: 2025-11-15 03:22:49 -0500 (Sat, 15 Nov 2025) EllapsedTime: 76.1 seconds RetCode: 0 Status: OK CheckDir: R4RNA.Rcheck Warnings: 0