Package: R4RNA Version: 1.36.0 Command: /home/biocbuild/bbs-3.21-bioc/R/bin/R CMD build --keep-empty-dirs --no-resave-data R4RNA StartedAt: 2025-10-15 19:19:26 -0400 (Wed, 15 Oct 2025) EndedAt: 2025-10-15 19:19:43 -0400 (Wed, 15 Oct 2025) EllapsedTime: 17.0 seconds RetCode: 0 Status: OK PackageFile: R4RNA_1.36.0.tar.gz PackageFileSize: 906.3 KiB