Package: R4RNA Version: 1.36.0 Command: /home/biocbuild/R/R/bin/R CMD INSTALL R4RNA StartedAt: 2025-10-06 20:44:27 -0000 (Mon, 06 Oct 2025) EndedAt: 2025-10-06 20:44:40 -0000 (Mon, 06 Oct 2025) EllapsedTime: 13.4 seconds RetCode: 0 Status: OK