Package: R4RNA Version: 1.36.0 Command: /home/biocbuild/R/R/bin/R CMD build --keep-empty-dirs --no-resave-data R4RNA StartedAt: 2025-10-07 03:48:09 -0000 (Tue, 07 Oct 2025) EndedAt: 2025-10-07 03:48:32 -0000 (Tue, 07 Oct 2025) EllapsedTime: 23.0 seconds RetCode: 0 Status: OK PackageFile: R4RNA_1.36.0.tar.gz PackageFileSize: 900 KiB