Package: R453Plus1Toolbox Version: 1.60.0 Command: /home/biocbuild/R/R/bin/R CMD INSTALL R453Plus1Toolbox StartedAt: 2025-11-13 22:00:56 -0000 (Thu, 13 Nov 2025) EndedAt: 2025-11-13 22:02:33 -0000 (Thu, 13 Nov 2025) EllapsedTime: 96.6 seconds RetCode: 0 Status: OK