Package: R453Plus1Toolbox Version: 1.60.0 Command: /home/biocbuild/R/R/bin/R CMD build --keep-empty-dirs --no-resave-data R453Plus1Toolbox StartedAt: 2025-11-14 04:24:39 -0000 (Fri, 14 Nov 2025) EndedAt: 2025-11-14 04:26:30 -0000 (Fri, 14 Nov 2025) EllapsedTime: 111.0 seconds RetCode: 1 Status: ERROR PackageFile: None PackageFileSize: NA