Package: R453Plus1Toolbox Version: 1.60.0 Command: /home/biocbuild/bbs-3.22-bioc/R/bin/R CMD INSTALL R453Plus1Toolbox StartedAt: 2025-11-14 15:54:59 -0500 (Fri, 14 Nov 2025) EndedAt: 2025-11-14 15:56:08 -0500 (Fri, 14 Nov 2025) EllapsedTime: 69.9 seconds RetCode: 0 Status: OK