Package: R453Plus1Toolbox Version: 1.60.0 Command: /home/biocbuild/bbs-3.22-bioc/R/bin/R CMD build --keep-empty-dirs --no-resave-data --md5 R453Plus1Toolbox StartedAt: 2025-11-13 19:34:19 -0500 (Thu, 13 Nov 2025) EndedAt: 2025-11-13 19:35:43 -0500 (Thu, 13 Nov 2025) EllapsedTime: 84.1 seconds RetCode: 1 Status: ERROR PackageFile: None PackageFileSize: NA