Package: R453Plus1Toolbox Version: 1.58.0 Command: /Library/Frameworks/R.framework/Resources/bin/R CMD INSTALL R453Plus1Toolbox StartedAt: 2025-09-25 16:32:18 -0400 (Thu, 25 Sep 2025) EndedAt: 2025-09-25 16:34:55 -0400 (Thu, 25 Sep 2025) EllapsedTime: 157.1 seconds RetCode: 0 Status: OK