Package: R453Plus1Toolbox Version: 1.58.0 Command: /Library/Frameworks/R.framework/Resources/bin/R CMD build --keep-empty-dirs --no-resave-data R453Plus1Toolbox StartedAt: 2025-09-25 21:48:14 -0400 (Thu, 25 Sep 2025) EndedAt: 2025-09-25 21:52:26 -0400 (Thu, 25 Sep 2025) EllapsedTime: 251.7 seconds RetCode: 0 Status: OK PackageFile: R453Plus1Toolbox_1.58.0.tar.gz PackageFileSize: 836.9 KiB